BEGIN:VCALENDAR
VERSION:2.0
PRODID:-//Regional District of Central Kootenay - ECPv6.15.20//NONSGML v1.0//EN
CALSCALE:GREGORIAN
METHOD:PUBLISH
X-ORIGINAL-URL:https://www.rdck.ca
X-WR-CALDESC:Events for Regional District of Central Kootenay
REFRESH-INTERVAL;VALUE=DURATION:PT1H
X-Robots-Tag:noindex
X-PUBLISHED-TTL:PT1H
BEGIN:VTIMEZONE
TZID:America/Vancouver
BEGIN:DAYLIGHT
TZOFFSETFROM:-0800
TZOFFSETTO:-0700
TZNAME:PDT
DTSTART:20240310T100000
END:DAYLIGHT
BEGIN:STANDARD
TZOFFSETFROM:-0700
TZOFFSETTO:-0800
TZNAME:PST
DTSTART:20241103T090000
END:STANDARD
BEGIN:DAYLIGHT
TZOFFSETFROM:-0800
TZOFFSETTO:-0700
TZNAME:PDT
DTSTART:20250309T100000
END:DAYLIGHT
BEGIN:STANDARD
TZOFFSETFROM:-0700
TZOFFSETTO:-0800
TZNAME:PST
DTSTART:20251102T090000
END:STANDARD
BEGIN:DAYLIGHT
TZOFFSETFROM:-0800
TZOFFSETTO:-0700
TZNAME:PDT
DTSTART:20260308T100000
END:DAYLIGHT
BEGIN:STANDARD
TZOFFSETFROM:-0700
TZOFFSETTO:-0800
TZNAME:PST
DTSTART:20261101T090000
END:STANDARD
END:VTIMEZONE
BEGIN:VEVENT
DTSTART;TZID=America/Vancouver:20251126T090000
DTEND;TZID=America/Vancouver:20251126T113000
DTSTAMP:20260425T101721
CREATED:20251023T203503Z
LAST-MODIFIED:20251023T203503Z
UID:19837-1764147600-1764156600@www.rdck.ca
SUMMARY:Nelson\, Salmo\, Areas E\, F and G Regional Parks Commission
DESCRIPTION:Please note the time for the meeting is in Pacific Standard Time. \nDate: November 26\, 2025 (Rescheduled from November 10\, 2025) \nTime: 9:00a.m. \nTo promote transparency and ensure accessibility\, we offer the option to attend all RDCK Board\, Commission\, and Committee meetings either in-person or remotely. For remote participation\, a stable internet connection or access to a phone is required. \nThe public will have an opportunity to ask questions in the meeting during Public Time. \nFor more information regarding the meeting or remote attendance\, click the link below. \nNelson\, Salmo\, Areas E\, F and G Regional Parks Commission Meeting Information 
URL:https://www.rdck.ca/event/nelson-salmo-areas-e-f-and-g-regional-parks-commission-3/
LOCATION:RDCK Board Room\, 202 Lakeside Drive\, Nelson\, BC\, V1L 5R4\, Canada
CATEGORIES:Meetings,Nelson Area and West Arm of Kootenay Lake,Parks & Recreation,Parks & Recreation,Salmo and Electoral Area G
END:VEVENT
BEGIN:VEVENT
DTSTART;TZID=America/Vancouver:20251126T103000
DTEND;TZID=America/Vancouver:20251126T133000
DTSTAMP:20260425T101721
CREATED:20250430T183601Z
LAST-MODIFIED:20251023T205241Z
UID:15954-1764153000-1764163800@www.rdck.ca
SUMMARY:Nelson & District Recreation Commission No. 5
DESCRIPTION:Please note the time for the meeting is in Pacific Standard Time. \nDate: November 26\, 2025 \nTime: 10:30 a.m. (time changed from 9 a.m.) \nTo promote transparency and ensure accessibility\, we offer the option to attend all RDCK Board\, Commission\, and Committee meetings either in-person or remotely. For remote participation\, a stable internet connection or access to a phone is required. \nThe public will have an opportunity to ask questions in the meeting during Public Time. \nFor more information regarding the meeting or remote attendance\, click the link below. \nNelson & District Recreation Commission No. 5 Meeting Information 
URL:https://www.rdck.ca/event/nelson-district-recreation-commission-no-5-6/
LOCATION:RDCK Board Room\, 202 Lakeside Drive\, Nelson\, BC\, V1L 5R4\, Canada
CATEGORIES:Meetings,Nelson Area and West Arm of Kootenay Lake,Parks & Recreation
END:VEVENT
END:VCALENDAR